Workbook

Sheet Sheet1
A1: 学号 | B1: 姓名 | C1: 发放项目 | D1: 发放金额
A2: 3003180013 | B2: 陈芳 | C2: 优秀论文奖 | D2: 40000
A3: 3005180036 | B3: 邓阳 | C3: 优秀论文奖 | D3: 40000
A4: 3003180007 | B4: 郝琳 | C4: 优秀论文奖 | D4: 40000
A5: 3003180006 | B5: 赵雅静 | C5: 优秀论文奖 | D5: 40000
A6: 3003170013 | B6: 高欢 | C6: 优秀论文奖 | D6: 40000
A7: 3001190003 | B7: 王婧宜 | C7: 优秀论文奖 | D7: 40000
A8: 3001180082 | B8: 曾杰 | C8: 优秀论文奖 | D8: 40000
A9: 3057190003 | B9: 刘金科 | C9: 优秀论文奖 | D9: 40000
A10: 3001180083 | B10: 柳满 | C10: 优秀论文奖 | D10: 40000
A11: 3012180008 | B11: 王柯 | C11: 优秀论文奖 | D11: 40000
A12: 3001180076 | B12: 刘雨嫣 | C12: 优秀论文奖 | D12: 20000
A13: 3001180001 | B13: 于皓丞 | C13: 优秀论文奖 | D13: 20000
... A27: 3005190034 | B27: 胡瑜恬 | C27: 优秀论文奖 | D27: 20000
A28: 3005180012 | B28: 屈伸 | C28: 优秀论文奖 | D28: 20000
A29: 3003170004 | B29: 汪杰 | C29: 优秀论文奖 | D29: 20000
A30: 3005180026 | B30: 张寿川 | C30: 优秀论文奖 | D30: 20000
A31: 3005170027 | B31: 程鹏举 | C31: 优秀论文奖 | D31: 20000
A32: 3007180005 | B32: 范晓佳 | C32: 优秀论文奖 | D32: 20000
A33: 3001190004 | B33: 高品 | C33: 优秀论文奖 | D33: 20000
A34: 3004160001 | B34: 韩赜 | C34: 优秀论文奖 | D34: 20000
A35: 3003190009 | B35: 胡程 | C35: 优秀论文奖 | D35: 20000
A36: 3005180014 | B36: 李博 | C36: 优秀论文奖 | D36: 20000
A37: 3003180024 | B37: 林森 | C37: 优秀论文奖 | D37: 20000
A38: 3010180003 | B38: 刘敏 | C38: 优秀论文奖 | D38: 20000
A39: 3006180045 | B39: 贾霖 | C39: 优秀论文奖 | D39: 20000
A40: 3012180009 | B40: 荆肇睿 | C40: 优秀论文奖 | D40: 20000
A41: 3006180038 | B41: 刘鹏 | C41: 优秀论文奖 | D41: 20000
A42: 3005150037 | B42: 马雪姣 | C42: 优秀论文奖 | D42: 20000
A43: 3001180018 | B43: 王洋 | C43: 优秀论文奖 | D43: 20000
A44: 3012170003 | B44: 杨隆珊 | C44: 优秀论文奖 | D44: 20000
A45: 3012170013 | B45: 张敏 | C45: 优秀论文奖 | D45: 20000
A46: 3001180081 | B46: 梁斌 | C46: 优秀论文奖 | D46: 20000
... A174: 3012190017 | B174: 黄雨晗 | C174: 优秀论文奖 | D174: 2000
A175: 3006170003 | B175: 焦保程 | C175: 优秀论文奖 | D175: 2000
A176: 3001170090 | B176: 孔若颜 | C176: 优秀论文奖 | D176: 2000
A177: 3001190036 | B177: 李明键 | C177: 优秀论文奖 | D177: 2000
A178: 3001170077 | B178: 李楠 | C178: 优秀论文奖 | D178: 2000
A179: 3001180026 | B179: 李士胜 | C179: 优秀论文奖 | D179: 2000
A180: 3007170010 | B180: 李姝乐 | C180: 优秀论文奖 | D180: 2000
...

Sheet Sheet2
A1: 2001170002 | B1: 王韵 | C1: =VLOOKUP(A1,Sheet1!$A$2:$A$213,1,0) -> #N/A
A2: 2001170016 | B2: 周子琦 | C2: =VLOOKUP(A2,Sheet1!$A$2:$A$213,1,0) -> #N/A
A3: 2001170018 | B3: 夏庆银 | C3: =VLOOKUP(A3,Sheet1!$A$2:$A$213,1,0) -> #N/A
A4: 2001170036 | B4: 王仕林 | C4: =VLOOKUP(A4,Sheet1!$A$2:$A$213,1,0) -> #N/A
A5: 2001170042 | B5: 许鑫 | C5: =VLOOKUP(A5,Sheet1!$A$2:$A$213,1,0) -> #N/A
A6: 2001170074 | B6: 董超一 | C6: =VLOOKUP(A6,Sheet1!$A$2:$A$213,1,0) -> #N/A
A7: 2001170078 | B7: 王康 | C7: =VLOOKUP(A7,Sheet1!$A$2:$A$213,1,0) -> #N/A
A8: 2001170117 | B8: 吴显灿 | C8: =VLOOKUP(A8,Sheet1!$A$2:$A$213,1,0) -> #N/A
A9: 2001170149 | B9: 常瑞海 | C9: =VLOOKUP(A9,Sheet1!$A$2:$A$213,1,0) -> #N/A
A10: 2001170179 | B10: 段轶仁 | C10: =VLOOKUP(A10,Sheet1!$A$2:$A$213,1,0) -> #N/A
A11: 2001180018 | B11: 马春阳 | C11: =VLOOKUP(A11,Sheet1!$A$2:$A$213,1,0) -> #N/A
A12: 2002170010 | B12: 唐令 | C12: =VLOOKUP(A12,Sheet1!$A$2:$A$213,1,0) -> #N/A
... A258: 9210140001 | B258: 奥米莎 | C258: =VLOOKUP(A258,Sheet1!$A$2:$A$213,1,0) -> #N/A
